BEGIN:VCALENDAR
VERSION:2.0
PRODID:-//AFCVBB - ECPv6.15.20//NONSGML v1.0//EN
CALSCALE:GREGORIAN
METHOD:PUBLISH
X-WR-CALNAME:AFCVBB
X-ORIGINAL-URL:https://afcvbb.de
X-WR-CALDESC:Veranstaltungen für AFCVBB
REFRESH-INTERVAL;VALUE=DURATION:PT1H
X-Robots-Tag:noindex
X-PUBLISHED-TTL:PT1H
BEGIN:VTIMEZONE
TZID:Europe/Berlin
BEGIN:DAYLIGHT
TZOFFSETFROM:+0100
TZOFFSETTO:+0200
TZNAME:CEST
DTSTART:20250330T010000
END:DAYLIGHT
BEGIN:STANDARD
TZOFFSETFROM:+0200
TZOFFSETTO:+0100
TZNAME:CET
DTSTART:20251026T010000
END:STANDARD
BEGIN:DAYLIGHT
TZOFFSETFROM:+0100
TZOFFSETTO:+0200
TZNAME:CEST
DTSTART:20260329T010000
END:DAYLIGHT
BEGIN:STANDARD
TZOFFSETFROM:+0200
TZOFFSETTO:+0100
TZNAME:CET
DTSTART:20261025T010000
END:STANDARD
BEGIN:DAYLIGHT
TZOFFSETFROM:+0100
TZOFFSETTO:+0200
TZNAME:CEST
DTSTART:20270328T010000
END:DAYLIGHT
BEGIN:STANDARD
TZOFFSETFROM:+0200
TZOFFSETTO:+0100
TZNAME:CET
DTSTART:20271031T010000
END:STANDARD
END:VTIMEZONE
BEGIN:VEVENT
DTSTART;TZID=Europe/Berlin:20260307T090000
DTEND;TZID=Europe/Berlin:20260307T160000
DTSTAMP:20260420T174154
CREATED:20260305T125612Z
LAST-MODIFIED:20260305T125612Z
UID:8142-1772874000-1772899200@afcvbb.de
SUMMARY:Großes Big East Flag Camp
DESCRIPTION:Das Big East Flag Camp geht in die nächste Runde – und wir freuen uns darauf\, gemeinsam mit euch den nächsten Schritt in der regionalen Flag-Football-Entwicklung zu gehen. Unser Programm verbindet intensives Flag-Football-Training mit Elementen aus Beweglichkeit\, Athletik und Technik\, um junge Athletinnen und Athleten ganzheitlich weiterzuentwickeln.
URL:https://afcvbb.de/termin/grosses-big-east-flag-camp/
LOCATION:Max-Schmeling Halle B
CATEGORIES:Big East Flag
END:VEVENT
BEGIN:VEVENT
DTSTART;TZID=Europe/Berlin:20260307T120000
DTEND;TZID=Europe/Berlin:20260307T160000
DTSTAMP:20260420T174154
CREATED:20260305T165837Z
LAST-MODIFIED:20260305T165912Z
UID:8228-1772884800-1772899200@afcvbb.de
SUMMARY:ESCC 2026 Frankfurt (Oder)
DESCRIPTION:Cheerleading Meisterschaften von Berlin\, Brandenburg\, Sachsen-Anhalt und Sachsen. \nDie Veranstaltung ist ausverkauft.
URL:https://afcvbb.de/termin/escc-2026-frankfurt-oder/
LOCATION:Brandenburg-Halle im Sportzentrum\, Stendaler Str. 28\, 15234 Frankfurt/Oder
CATEGORIES:Cheerleading
END:VEVENT
BEGIN:VEVENT
DTSTART;TZID=Europe/Berlin:20260314T090000
DTEND;TZID=Europe/Berlin:20260314T170000
DTSTAMP:20260420T174154
CREATED:20260305T140332Z
LAST-MODIFIED:20260305T140332Z
UID:8172-1773478800-1773507600@afcvbb.de
SUMMARY:E-Lehrgang für Tackle Football Schiedsrichter
DESCRIPTION:Der Schiedsrichter E-Lehrgang für neue Tackle-Schiedsrichter/innen findet an den folgenden Wochenenden statt: 14.03./15.03 und 28.03./29.03. Der Lehrgang geht in der Regel von 9 – 17 Uhr. 
URL:https://afcvbb.de/termin/e-lehrgang-fuer-tackle-football-schiedsrichter/
CATEGORIES:Football,Schiedsrichter
END:VEVENT
BEGIN:VEVENT
DTSTART;TZID=Europe/Berlin:20260315T090000
DTEND;TZID=Europe/Berlin:20260315T170000
DTSTAMP:20260420T174154
CREATED:20260305T140440Z
LAST-MODIFIED:20260305T140440Z
UID:8174-1773565200-1773594000@afcvbb.de
SUMMARY:E-Lehrgang für Tackle Football Schiedsrichter
DESCRIPTION:
URL:https://afcvbb.de/termin/e-lehrgang-fuer-tackle-football-schiedsrichter-2/
CATEGORIES:Football,Schiedsrichter
END:VEVENT
BEGIN:VEVENT
DTSTART;TZID=Europe/Berlin:20260321T080000
DTEND;TZID=Europe/Berlin:20260321T150000
DTSTAMP:20260420T174154
CREATED:20260305T140556Z
LAST-MODIFIED:20260305T140556Z
UID:8176-1774080000-1774105200@afcvbb.de
SUMMARY:U10 Winter Bowl
DESCRIPTION:Der Winter-Bowl ist der krönende Abschluss der Winterliga 2026. Wir freuen uns auf spannende Spiele und zahlreiche Zuschauer*innen.
URL:https://afcvbb.de/termin/u10-winter-bowl/
LOCATION:Seelenbinderhalle im Velodrom Berlin
CATEGORIES:Flag Football
END:VEVENT
BEGIN:VEVENT
DTSTART;TZID=Europe/Berlin:20260321T080000
DTEND;TZID=Europe/Berlin:20260321T150000
DTSTAMP:20260420T174154
CREATED:20260305T140632Z
LAST-MODIFIED:20260305T140632Z
UID:8179-1774080000-1774105200@afcvbb.de
SUMMARY:U13 Winter Bowl
DESCRIPTION:Der Winter-Bowl ist der krönende Abschluss der Winterliga 2026. Wir freuen uns auf spannende Spiele und zahlreiche Zuschauer*innen.
URL:https://afcvbb.de/termin/u13-winter-bowl/
LOCATION:Typensporthalle Olympiapark
CATEGORIES:Flag Football
END:VEVENT
BEGIN:VEVENT
DTSTART;TZID=Europe/Berlin:20260321T080000
DTEND;TZID=Europe/Berlin:20260321T150000
DTSTAMP:20260420T174154
CREATED:20260305T140704Z
LAST-MODIFIED:20260305T140704Z
UID:8182-1774080000-1774105200@afcvbb.de
SUMMARY:U16 Winter Bowl
DESCRIPTION:Der Winter-Bowl ist der krönende Abschluss der Winterliga 2026. Wir freuen uns auf spannende Spiele und zahlreiche Zuschauer*innen.
URL:https://afcvbb.de/termin/u16-winter-bowl/
LOCATION:Max-Schmeling Halle B
CATEGORIES:Flag Football
END:VEVENT
BEGIN:VEVENT
DTSTART;TZID=Europe/Berlin:20260322T090000
DTEND;TZID=Europe/Berlin:20260322T160000
DTSTAMP:20260420T174154
CREATED:20260305T140750Z
LAST-MODIFIED:20260305T140750Z
UID:8184-1774170000-1774195200@afcvbb.de
SUMMARY:Großes Big East Flag Camp
DESCRIPTION:Das Big East Flag Camp geht in die nächste Runde – und wir freuen uns darauf\, gemeinsam mit euch den nächsten Schritt in der regionalen Flag-Football-Entwicklung zu gehen. Unser Programm verbindet intensives Flag-Football-Training mit Elementen aus BeweglUnser Programm verbindet intensives Flag-Football-Training mit Elementen aus Beweglichkeit\, Athletik und Technik\, um junge Athletinnen und Athleten ganzheitlich weiterzuentwickeln.
URL:https://afcvbb.de/termin/grosses-big-east-flag-camp-2/
LOCATION:Typensporthalle Olympiapark
CATEGORIES:Big East Flag
END:VEVENT
BEGIN:VEVENT
DTSTART;TZID=Europe/Berlin:20260328T090000
DTEND;TZID=Europe/Berlin:20260328T170000
DTSTAMP:20260420T174154
CREATED:20260305T140838Z
LAST-MODIFIED:20260305T140838Z
UID:8186-1774688400-1774717200@afcvbb.de
SUMMARY:E-Lehrgang für Tackle Football Schiedsrichter
DESCRIPTION:Der Schiedsrichter E-Lehrgang für neue Tackle-Schiedsrichter/innen findet an den folgenden Wochenenden statt: 14.03./15.03 und 28.03./29.03. Der Lehrgang geht in der Regel von 9 – 17 Uhr. 
URL:https://afcvbb.de/termin/e-lehrgang-fuer-tackle-football-schiedsrichter-3/
CATEGORIES:Football,Schiedsrichter
END:VEVENT
BEGIN:VEVENT
DTSTART;TZID=Europe/Berlin:20260329T090000
DTEND;TZID=Europe/Berlin:20260329T170000
DTSTAMP:20260420T174154
CREATED:20260305T140912Z
LAST-MODIFIED:20260305T140912Z
UID:8188-1774774800-1774803600@afcvbb.de
SUMMARY:E-Lehrgang für Tackle Football Schiedsrichter
DESCRIPTION:Der Schiedsrichter E-Lehrgang für neue Tackle-Schiedsrichter/innen findet an den folgenden Wochenenden statt: 14.03./15.03 und 28.03./29.03. Der Lehrgang geht in der Regel von 9 – 17 Uhr. 
URL:https://afcvbb.de/termin/e-lehrgang-fuer-tackle-football-schiedsrichter-4/
CATEGORIES:Football,Schiedsrichter
END:VEVENT
BEGIN:VEVENT
DTSTART;TZID=Europe/Berlin:20260329T090000
DTEND;TZID=Europe/Berlin:20260329T170000
DTSTAMP:20260420T174154
CREATED:20260305T140955Z
LAST-MODIFIED:20260305T140955Z
UID:8190-1774774800-1774803600@afcvbb.de
SUMMARY:Prüfungstermin Trainer C-Lizenz Lehrgänge
DESCRIPTION:Vom 28.02.2026 bis 29.03.2026 bieten wir Trainer-C-Lehrgänge American Football und Flag Football an (fachspezifischer Teil). Die acht Lehrgangstage werden überwiegend in Präsenz angeboten. Details zur praktischen Prüfung werden im Rahmen der Kurse bekanntgegeben.
URL:https://afcvbb.de/termin/pruefungstermin-trainer-c-lizenz-lehrgaenge/
CATEGORIES:Ausbildung,Flag Football,Football
END:VEVENT
END:VCALENDAR